BEGIN:VCALENDAR
VERSION:2.0
PRODID:-//Avin Ahmadi - ECPv6.15.13//NONSGML v1.0//EN
CALSCALE:GREGORIAN
METHOD:PUBLISH
X-ORIGINAL-URL:https://avinahmadi.com
X-WR-CALDESC:Events for Avin Ahmadi
REFRESH-INTERVAL;VALUE=DURATION:PT1H
X-Robots-Tag:noindex
X-PUBLISHED-TTL:PT1H
BEGIN:VTIMEZONE
TZID:Europe/Vienna
BEGIN:DAYLIGHT
TZOFFSETFROM:+0100
TZOFFSETTO:+0200
TZNAME:CEST
DTSTART:20230326T010000
END:DAYLIGHT
BEGIN:STANDARD
TZOFFSETFROM:+0200
TZOFFSETTO:+0100
TZNAME:CET
DTSTART:20231029T010000
END:STANDARD
BEGIN:DAYLIGHT
TZOFFSETFROM:+0100
TZOFFSETTO:+0200
TZNAME:CEST
DTSTART:20240331T010000
END:DAYLIGHT
BEGIN:STANDARD
TZOFFSETFROM:+0200
TZOFFSETTO:+0100
TZNAME:CET
DTSTART:20241027T010000
END:STANDARD
BEGIN:DAYLIGHT
TZOFFSETFROM:+0100
TZOFFSETTO:+0200
TZNAME:CEST
DTSTART:20250330T010000
END:DAYLIGHT
BEGIN:STANDARD
TZOFFSETFROM:+0200
TZOFFSETTO:+0100
TZNAME:CET
DTSTART:20251026T010000
END:STANDARD
END:VTIMEZONE
BEGIN:VEVENT
DTSTART;TZID=Europe/Vienna:20240203T200000
DTEND;TZID=Europe/Vienna:20240203T200000
DTSTAMP:20260421T122945
CREATED:20251221T191255Z
LAST-MODIFIED:20251221T191334Z
UID:5539-1706990400-1706990400@avinahmadi.com
SUMMARY:Frau Mayer variations : Dominik Grafl\, Avin Ahmadi & friends!
DESCRIPTION:Avin Ahmadi\, Oud/Vocals\nDominik Grafl\, Piano/Percussion/Accordeon/n’Goni/Vocal/Texts/Production\nBeri Bedelahmi\, Vocals\nKristian Lind\, Bass\nJosef Kolarz\, Clarinette \n++Special Guests++: Michael Lugger\, Daniel Weber\, Tobias Freudenreich\, Eva Maria Neubauer\, Julian Villegas
URL:https://avinahmadi.com/event/frau-mayer-variations-dominik-grafl-avin-ahmadi-friends/
LOCATION:Frau Mayer\, Vienna\, vienna\, 1010\, Austria
ATTACH;FMTTYPE=image/webp:https://avinahmadi.com/wp-content/uploads/2024/07/suuun.webp
END:VEVENT
END:VCALENDAR