BEGIN:VCALENDAR
VERSION:2.0
PRODID:-//Avin Ahmadi - ECPv6.15.13//NONSGML v1.0//EN
CALSCALE:GREGORIAN
METHOD:PUBLISH
X-WR-CALNAME:Avin Ahmadi
X-ORIGINAL-URL:https://avinahmadi.com
X-WR-CALDESC:Events for Avin Ahmadi
REFRESH-INTERVAL;VALUE=DURATION:PT1H
X-Robots-Tag:noindex
X-PUBLISHED-TTL:PT1H
BEGIN:VTIMEZONE
TZID:Europe/Vienna
BEGIN:DAYLIGHT
TZOFFSETFROM:+0100
TZOFFSETTO:+0200
TZNAME:CEST
DTSTART:20220327T010000
END:DAYLIGHT
BEGIN:STANDARD
TZOFFSETFROM:+0200
TZOFFSETTO:+0100
TZNAME:CET
DTSTART:20221030T010000
END:STANDARD
BEGIN:DAYLIGHT
TZOFFSETFROM:+0100
TZOFFSETTO:+0200
TZNAME:CEST
DTSTART:20230326T010000
END:DAYLIGHT
BEGIN:STANDARD
TZOFFSETFROM:+0200
TZOFFSETTO:+0100
TZNAME:CET
DTSTART:20231029T010000
END:STANDARD
BEGIN:DAYLIGHT
TZOFFSETFROM:+0100
TZOFFSETTO:+0200
TZNAME:CEST
DTSTART:20240331T010000
END:DAYLIGHT
BEGIN:STANDARD
TZOFFSETFROM:+0200
TZOFFSETTO:+0100
TZNAME:CET
DTSTART:20241027T010000
END:STANDARD
END:VTIMEZONE
BEGIN:VEVENT
DTSTART;VALUE=DATE:20230915
DTEND;VALUE=DATE:20230926
DTSTAMP:20260421T230211
CREATED:20251221T184650Z
LAST-MODIFIED:20251221T184755Z
UID:5518-1694736000-1695686399@avinahmadi.com
SUMMARY:The Flying Carpet Festival 2023
DESCRIPTION:Flying Carpet is a volunteer-based collective of world-class musicians\, circus artists\, visual artists\, designers\, and visionaries who believe in the power of music and arts as a catalyst for positive change in the lives of  vulnerable and refugee children in war- affected regions of the world. \nThis festival is an intensive learning platform  to create a harmonious experience through music\, circus\,  dance\, light\, beauty and truth. The festival selects  artists\, musicians and  visionaries  from all over the world with the common  goal of creating  the  best possible educational experience for vulnerable  children traumatized  by war and conflict.
URL:https://avinahmadi.com/event/the-flying-carpet-festival-2023/
LOCATION:Different Venues\, Mardin\, Turkey
ATTACH;FMTTYPE=image/webp:https://avinahmadi.com/wp-content/uploads/2024/07/gggg-high.webp
END:VEVENT
BEGIN:VEVENT
DTSTART;TZID=Europe/Vienna:20230913T200000
DTEND;TZID=Europe/Vienna:20230913T200000
DTSTAMP:20260421T230211
CREATED:20251221T190505Z
LAST-MODIFIED:20251221T190539Z
UID:5532-1694635200-1694635200@avinahmadi.com
SUMMARY:MAVIN'S DUO
DESCRIPTION:Avin Ahmadi\, an Oud player from Iran and Michael Alves\, a Brazilian violin player\, will create an artistic atmosphere in which\, music and poetry connect to each other.
URL:https://avinahmadi.com/event/mavins-duo-5/
LOCATION:Cafe IIN\, Vienna\, Austria
ATTACH;FMTTYPE=image/webp:https://avinahmadi.com/wp-content/uploads/2024/07/photo_2023-09-10_13-38-41-1.webp
END:VEVENT
BEGIN:VEVENT
DTSTART;TZID=Europe/Vienna:20230609T190000
DTEND;TZID=Europe/Vienna:20230609T190000
DTSTAMP:20260421T230211
CREATED:20251221T184226Z
LAST-MODIFIED:20251221T184243Z
UID:5512-1686337200-1686337200@avinahmadi.com
SUMMARY:MAVIN'S DUO
DESCRIPTION:Avin Ahmadi\, an Oud player from Iran and Michael Alves\, a Brazilian violin player\, will create an artistic atmosphere in which\, music and poetry connect to each other.
URL:https://avinahmadi.com/event/mavins-duo-2/
LOCATION:Jeanskammel\, Vienna\, Austria
ATTACH;FMTTYPE=image/webp:https://avinahmadi.com/wp-content/uploads/2024/07/photo_2023-06-09_10-25-40.webp
END:VEVENT
BEGIN:VEVENT
DTSTART;TZID=Europe/Vienna:20230606T170000
DTEND;TZID=Europe/Vienna:20230606T170000
DTSTAMP:20260421T230211
CREATED:20251221T184431Z
LAST-MODIFIED:20251221T184438Z
UID:5515-1686070800-1686070800@avinahmadi.com
SUMMARY:MAVIN'S DUO
DESCRIPTION:Avin Ahmadi\, an Oud player from Iran and Michael Alves\, a Brazilian violin player\, will create an artistic atmosphere in which\, music and poetry connect to each other.
URL:https://avinahmadi.com/event/mavins-duo-3/
LOCATION:Vienna Art Gallery\, Vienna
ATTACH;FMTTYPE=image/webp:https://avinahmadi.com/wp-content/uploads/2024/07/photo_2023-09-10_13-38-41-1.webp
END:VEVENT
BEGIN:VEVENT
DTSTART;TZID=Europe/Vienna:20230428T173000
DTEND;TZID=Europe/Vienna:20230428T173000
DTSTAMP:20260421T230211
CREATED:20251221T183604Z
LAST-MODIFIED:20251221T184043Z
UID:5504-1682703000-1682703000@avinahmadi.com
SUMMARY:MAVINS' DUO
DESCRIPTION:Avin Ahmadi\, an Oud player from Iran and Michael Alves\, a Brazilian violin player\, will create an artistic atmosphere in which\, music and poetry connect to each other.
URL:https://avinahmadi.com/event/mavins-duo/
LOCATION:Frau Mayer\, Vienna\, vienna\, 1010\, Austria
ATTACH;FMTTYPE=image/webp:https://avinahmadi.com/wp-content/uploads/2024/07/image-6.webp
END:VEVENT
BEGIN:VEVENT
DTSTART;TZID=Europe/Vienna:20230325T190000
DTEND;TZID=Europe/Vienna:20230325T190000
DTSTAMP:20260421T230211
CREATED:20251221T183231Z
LAST-MODIFIED:20251221T183329Z
UID:5501-1679770800-1679770800@avinahmadi.com
SUMMARY:Nowrouz\, Persian New year
DESCRIPTION:A Concert\, Dinner\, Party program By Trio Rokhs (Traditional Iranian music)
URL:https://avinahmadi.com/event/nowrouz-persian-new-year/
LOCATION:EPEL\, Salle Polyvalante\, Geneva\, Switzerland
ATTACH;FMTTYPE=image/webp:https://avinahmadi.com/wp-content/uploads/2024/07/genevaconcert.webp
END:VEVENT
BEGIN:VEVENT
DTSTART;TZID=Europe/Vienna:20230307T190000
DTEND;TZID=Europe/Vienna:20230307T190000
DTSTAMP:20260421T230211
CREATED:20251221T182705Z
LAST-MODIFIED:20251221T183019Z
UID:5492-1678215600-1678215600@avinahmadi.com
SUMMARY:WOMAN\, LIFE\, FREEDOM
DESCRIPTION:On the day before International Women’s day\, hmdw\, the student council of the University of Music and performing  Arts Vienna\, has organized a concert in Solidarity with Iran and the feminist revoluion in Iran. The program will be performed mainly by several Iranian musicians.
URL:https://avinahmadi.com/event/woman-life-freedom/
LOCATION:Fanny Hensel- Saal der mdw\, Vienna\, Austria
ATTACH;FMTTYPE=image/webp:https://avinahmadi.com/wp-content/uploads/2024/07/photo_2023-03-13_14-33-45-1.webp
END:VEVENT
END:VCALENDAR