BEGIN:VCALENDAR
VERSION:2.0
PRODID:-//Avin Ahmadi - ECPv6.15.13//NONSGML v1.0//EN
CALSCALE:GREGORIAN
METHOD:PUBLISH
X-WR-CALNAME:Avin Ahmadi
X-ORIGINAL-URL:https://avinahmadi.com
X-WR-CALDESC:Events for Avin Ahmadi
REFRESH-INTERVAL;VALUE=DURATION:PT1H
X-Robots-Tag:noindex
X-PUBLISHED-TTL:PT1H
BEGIN:VTIMEZONE
TZID:Europe/Vienna
BEGIN:DAYLIGHT
TZOFFSETFROM:+0100
TZOFFSETTO:+0200
TZNAME:CEST
DTSTART:20220327T010000
END:DAYLIGHT
BEGIN:STANDARD
TZOFFSETFROM:+0200
TZOFFSETTO:+0100
TZNAME:CET
DTSTART:20221030T010000
END:STANDARD
BEGIN:DAYLIGHT
TZOFFSETFROM:+0100
TZOFFSETTO:+0200
TZNAME:CEST
DTSTART:20230326T010000
END:DAYLIGHT
BEGIN:STANDARD
TZOFFSETFROM:+0200
TZOFFSETTO:+0100
TZNAME:CET
DTSTART:20231029T010000
END:STANDARD
BEGIN:DAYLIGHT
TZOFFSETFROM:+0100
TZOFFSETTO:+0200
TZNAME:CEST
DTSTART:20240331T010000
END:DAYLIGHT
BEGIN:STANDARD
TZOFFSETFROM:+0200
TZOFFSETTO:+0100
TZNAME:CET
DTSTART:20241027T010000
END:STANDARD
END:VTIMEZONE
BEGIN:VEVENT
DTSTART;TZID=Europe/Vienna:20231028T200000
DTEND;TZID=Europe/Vienna:20231028T200000
DTSTAMP:20260421T160901
CREATED:20251221T190831Z
LAST-MODIFIED:20251221T190908Z
UID:5535-1698523200-1698523200@avinahmadi.com
SUMMARY:Avin Ahmadi & Morvarid Tahmasbi at Reaktor (Vienna\, Austria)
DESCRIPTION:DE/SEMBLE Festival night at Reaktor : Festival for Jazz and Adventurous Music in Vienna on 28.10.2023 : Morvarid Tahmasbi and Avin Ahmadi are two Iranian musicians\, both born and raised in iran. They will present an improvisational performance. Morvarid will showcase the ‘Kamancheh\,’ while Avin will play the Oud\, both traditional Iranian instruments. The focus will be on the ‘Bayat-Isfahan\,’a mode in traditional Iranian music\, as they explore its melodic
URL:https://avinahmadi.com/event/avin-ahmadi-morvarid-tahmasbi-at-reaktor-vienna-austria/
LOCATION:Reaktor\, Jahngasse 40\, Vienna\, Austria
ATTACH;FMTTYPE=image/webp:https://avinahmadi.com/wp-content/uploads/2024/07/photo_2024-02-13_10-57-03.webp
END:VEVENT
BEGIN:VEVENT
DTSTART;TZID=Europe/Vienna:20231030T190000
DTEND;TZID=Europe/Vienna:20231030T190000
DTSTAMP:20260421T160901
CREATED:20251221T185332Z
LAST-MODIFIED:20251221T190241Z
UID:5524-1698692400-1698692400@avinahmadi.com
SUMMARY:Avin Ahmadi Solo
DESCRIPTION:Avin Ahmadi\, a musician born in Tehran and living in Vienna\, presents a musical performance enriched with a tapestry of musical landscapes. With her oud and singing\, she explores improvisations of traditional Iranian music\, Arabic maqams and some original fusion folk compositions. The performance invites the audience on a profound journey across borders.
URL:https://avinahmadi.com/event/avin-ahmadi-solo/
LOCATION:Porgy&Bess\, Riemergasse 11\, Vienna\, 1010\, Austria
ATTACH;FMTTYPE=image/webp:https://avinahmadi.com/wp-content/uploads/2024/07/poo.webp
END:VEVENT
END:VCALENDAR